Workbook

Sheet Cover
A13: CAPITAL IMPROVEMENTS PROGRAM COMMITTEE
A15: RECOMMENDATIONS for 2021 CAPITAL FUNDING
A16: SUMMARY and DETAIL SCHEDULES
A18: 44200
A20: Proforma Restatement to Reflect Selectboard's Proposed Changes, January 9, 2021
B24: Committee Members
B26: Steven Bittel, Chair
B27: Deborah Davis | C27: Lynn Rust, CPA
B28: Larry Crowder | C28: Jane Johnson - Planning Board's Rep.
B29: Bruce Bohannon | C29: Sly Karasinski - Selectmen's Rep.

Sheet Comments
B1: Annual Reserve Cash Appropriations via Warrant Article:
C2: Year-over-year there is $24,000 increase (4.3%). | M2: ='2021 Cash Reserve Summary'!F49 -> 83000 | N2: ='2021 Cash Reserve Summary'!H49 -> 0.16210938
C3: Significate movements within that number are:
D4: Town Hall Improvement reduction is an offset for the next several years by Recycling Center Rehab Project (now all cash).
D5: DPW's large increase of $85,000, of which Roads constitute $50,000. | M5: ='2021 Cash Reserve Summary'!J5 -> 50000 | N5: ='2021 Cash Reserve Summary'!F9 -> 50000 | O5: ='2021 Cash Reserve Summary'!F47 -> -12000 | P5: =M5+O5 -> 38000
B6: Annual Debt Service (Principal + Interest):
C7: Year-over-year there is an $110,000 increase (+35%) . | M7: ='7 Yr Summary'!D71-'7 Yr Summary'!C71 -> 110413.37 | N7: =Comments!M7/'7 Yr Summary'!C71 -> 0.35125418
D8: Entirely due to one-half year servicing of the new Fire debt( Engine plus Station) of $3.6 million; a similar | N8: ='7 Yr Summary'!N65 -> 3000000
E9: increase will occur in 2022.
D10: The increase also represents an increase in the 2020 Budgeted Commitment of $110,000. | M10: ='7 Yr Summary'!D86 -> -11685.239 | N10: ='7 Yr Summary'!D71-'7 Yr Summary'!C71 -> 110413.37
C11: Six Year Trends:
D12: Future bond issues are contemplated for buildings: Town Hall and DPW (average of $600,000/issue).
D13: Annual debt service nearly would increase from 2020/2021 levels (from approximately $400,000 to $665,000). | M13: ='7 Yr Summary'!I71 -> 665797.51
B14: Annual Total Capital Commitment (Reserve Appropriations + Debt Service):
C15: Year-over-year there is $134,000 increase (15%) - entirely due to first half year of Fire Station 2 debt service. | M15: ='7 Yr Summary'!D77 -> 193413.37 | N15: ='7 Yr Summary'!D76 -> 0.23406017
C16: Seven year Total Commitment increases by $495,000 (57%). | M16: ='7 Yr Summary'!I73-'7 Yr Summary'!C73 -> 549457.13 | N16: =M16/'7 Yr Summary'!C73 -> 0.66492832
B17: Observations and Notes:
C18: This iteration reduces Fire Station 2 Bond by $500,000. | M18: Tax Rates:
C19: Recommended Reserve Account changes via Warrant Articles are: | N19: 2019 | O19: 2020
D20: Amend Cemetery Expansion to include major maintenance and improvements. | M20: Town | N20: 5.8 | O20: 6.22
C21: Although the Committee's consensus was to support the acquisition of a new Engine 2, especially the dual Rescue/Pumper | M21: Total | N21: 25.76 | O21: 25.68
D22: function (enabling a fleet reduction of the current heavy rescue truck), it chose to defer action until and because of:
E23: The effectiveness, including length of probable service life extension, of possible repairs is better understood; and
E24: the fact that there presently is no storage facility for the proposed larger vehicle, and likely will not be for at least two years.
F25: CHANGED BY WA PETITION
C26: Known unknows:
D27: Late year staff turnovers in DPW and Recreation resulted in carrying forward prior budgets without modification until the 2022 budget.
D28: Estimates for Town Hall and DPW renovations are undetermined placeholders.
D29: Roads: Webber Hill erosion and California Brook vs. grants are undetermined.
D30: Future needs of recycling streams/economics remain uncertain.
D31: Regional medical response solution is undetermined.
D32: Cost of Richardson Park foundation repair/replacement is not determined.

Sheet 2021 Cash Reserve Summary
C2: Estimated | D2: Contributions | H2: Major Net Increase/Decrease Causes
C3: Balance | D3: Actual | E3: 2021
A4: Department | C4: 44196 | D4: 2020 | E4: Recommend | F4: Incr.(Decr.) | H4: Comments
A5: DPW: | H5: DPW Net Increase $85,000 | J5: =SUM(F6:F13) -> 50000
B6: Equipment | C6: ='DPW-CEM Equip'!C25 -> 419000 | D6: ='DPW-CEM Equip'!C23 -> 160000 | E6: ='DPW-CEM Equip'!C27 -> 150000 | F6: =E6-D6 -> -10000
B7: Facilities | C7: ='DPW Facilities'!C16 -> 98000 | D7: ='DPW Facilities'!C14 -> 0 | E7: ='DPW Facilities'!C18 -> 0 | F7: =E7-D7 -> 0
B8: Cemetery Expansion | C8: ='Cemetery Expansion'!C18 -> 70000 | D8: 0 | E8: ='Cemetery Expansion'!C19 -> 0 | F8: =E8-D8 -> 0
B9: Road Reconst. | C9: ='DPW Road Rehab'!C22 -> 298000 | D9: ='DPW Road Rehab'!C20 -> 150000 | E9: ='DPW Road Rehab'!C24 -> 200000 | F9: =E9-D9 -> 50000 | H9: Major Increase
B10: Muni Trans Fund | C10: ='DPW Muni Trans & Snow SW Fd'!C15 -> 258000 | D10: 0 | E10: 0 | F10: =E10-D10 -> 0
B11: Town Sidewalks | C11: 0 | D11: 0 | E11: ='DPW Sidewalks'!C18 -> 10000 | F11: =E11-D11 -> 10000 | H11: New Fund; match grants in progress
B12: Town Dams | C12: ='DPW Town Dams'!C15 -> 158000 | D12: ='DPW Town Dams'!C13 -> 10000 | E12: ='DPW Town Dams'!C16 -> 10000 | F12: =E12-D12 -> 0
B13: Town Bridges | C13: ='DPW Bridges'!C16 -> 104000 | D13: ='DPW Bridges'!C14 -> 40000 | E13: ='DPW Bridges'!C18 -> 40000 | F13: =E13-D13 -> 0
B14: Covered Bridges | C14: ='DPW Covered Br'!C18 -> 95000 | D14: ='DPW Covered Br'!C16 -> 5000 | E14: ='DPW Covered Br'!C19 -> 5000 | F14: =E14-D14 -> 0
A15: Emergency Mgmt.:
B16: Facilities | C16: ='EM Fac & Com'!C23 -> 42000 | D16: 0 | E16: 0 | F16: =E16-D16 -> 0
B17: Communications | C17: ='EM Fac & Com'!C28 -> 109000 | D17: 5000 | E17: ='EM Fac & Com'!C30 -> 10000 | F17: =E17-D17 -> 5000
A18: Fire: | H18: Fire Net Increase $10,000 | J18: =SUM(F19:F24) -> -5000
B19: Trucks | C19: ='Fire Trucks'!C20 -> 198000 | D19: 5000 | E19: ='Fire Trucks'!C23 -> 5000 | F19: =E19-D19 -> 0
B20: Vehicle Repairs/Replace. | C20: 0 | D20: 0 | E20: 0 | F20: =E20-D20 -> 0
B21: Ponds | C21: ='Fire Ponds'!C17 -> 53000 | D21: ='Fire Ponds'!C15 -> 25000 | E21: ='Fire Ponds'!C19 -> 20000 | F21: =E21-D21 -> -5000
B22: Tools | C22: ='Fire Tools'!C18 -> 63000 | D22: ='Fire Tools'!C16 -> 20000 | E22: ='Fire Tools'!C20 -> 10000 | F22: =E22-D22 -> -10000
B23: Station Maint. | C23: =' Fire Sta. Maint ET'!C20 -> 16000 | D23: 0 | E23: =' Fire Sta. Maint ET'!C21 -> 0 | F23: =E23-D23 -> 0
B24: Fire Station Reserve | C24: ='Fire Sta CR'!C21 -> 173000 | D24: ='Fire Sta CR'!C19 -> 0 | E24: ='Fire Sta CR'!C23 -> 10000 | F24: =E24-D24 -> 10000
A25: Police:
B26: Cruisers | C26: ='PD Cruisers'!C24 -> 64000 | D26: ='PD Cruisers'!C22 -> 40000 | E26: ='PD Cruisers'!C26 -> 40000 | F26: =E26-D26 -> 0
B27: SD Cruiser Revolver | C27: ='PD Cruisers'!D19 -> 24000 | D27: 0 | E27: 0 | F27: =E27-D27 -> 0
B28: IMS | C28: ='PD Other'!C19 -> 29000 | D28: 3000 | E28: ='PD Other'!C20 -> 3000 | F28: =E28-D28 -> 0
B29: Facilities | C29: ='PD Other'!C25 -> 12000 | D29: 3000 | E29: ='PD Other'!C26 -> 3000 | F29: =E29-D29 -> 0
A30: Town Hall:
B31: Repairs & Expansion | C31: ='Town Hall Expansion-Repairs'!C21 -> 91500 | D31: 0 | E31: ='Town Hall Expansion-Repairs'!C22 -> 0 | F31: =E31-D31 -> 0 | H31: Major Decrease due to possible bonding
B32: IMS | C32: ='Town IMS'!C15 -> 32000 | D32: 15000 | E32: ='Town IMS'!C16 -> 10000 | F32: =E32-D32 -> -5000
A33: Rail Trails | C33: 0 | D33: 0 | E33: ='Rail Trails'!C16 -> 0 | F33: =E33-D33 -> 0
A34: Recreation | C34: =Recreation!C20 -> 74000 | D34: =Recreation!C18 -> 10000 | E34: =Recreation!C21 -> 10000 | F34: =E34-D34 -> 0
A35: Recycling Center:
B36: Facilities Reserve | C36: 0 | D36: 0 | E36: =Recycling!C25 -> 50000 | F36: =E36-D36 -> 50000 | H36: Major Incr. - Temp. increase cash funding
B37: Revolver | C37: =Recycling!C24 -> 486000 | D37: 0 | E37: 0 | F37: =E37-D37 -> 0 | H37: used for rehab.; no debt financing
A38: Libraries:
B39: Mt. Caesar Library | C39: ='Lib-MCUL'!C21 -> 21000 | D39: 3000 | E39: ='Lib-MCUL'!C22 -> 3000 | F39: =E39-D39 -> 0
B40: Stratton Free Library | C40: ='Lib-SFL'!C17 -> 12000 | D40: 1000 | E40: ='Lib-SFL'!C19 -> 1000 | F40: =E40-D40 -> 0
D41: =SUM(D6:D40) -> 495000 | E41: =SUM(E6:E40) -> 590000 | F41: =SUM(F6:F40) -> 95000 | H41: =F41/D41 -> 0.19191919 | I41: Increase(Decrease) | K41: =E41-D41 -> 95000 | L41: =F41-K41 -> 0
...

Sheet 7 Yr Summary
A2: Department | C2: 2020 | D2: =1+C2 -> 2021 | E2: =1+D2 -> 2022 | F2: =1+E2 -> 2023 | G2: =1+F2 -> 2024 | H2: =1+G2 -> 2025 | I2: =1+H2 -> 2026
A3: CR/ET Direct Cash Appropriations: | C3: (Actual)
A4: DPW:
B5: Equipment | C5: ='2021 Cash Reserve Summary'!D6 -> 160000 | D5: ='DPW-CEM Equip'!C27 -> 150000 | E5: ='DPW-CEM Equip'!D27 -> 150000 | F5: ='DPW-CEM Equip'!E27 -> 150000 | G5: ='DPW-CEM Equip'!F27 -> 150000 | H5: ='DPW-CEM Equip'!G27 -> 150000 | I5: ='DPW-CEM Equip'!H27 -> 150000 | K5: ='2021 Cash Reserve Summary'!E6 -> 150000 | L5: =D5-K5 -> 0
B6: Facilities | C6: ='2021 Cash Reserve Summary'!D7 -> 0 | D6: ='DPW Facilities'!C18 -> 0 | E6: ='DPW Facilities'!D18 -> 0 | F6: ='DPW Facilities'!E18 -> 0 | G6: ='DPW Facilities'!F18 -> 0 | H6: ='DPW Facilities'!G18 -> 0 | I6: ='DPW Facilities'!H18 -> 0 | K6: ='2021 Cash Reserve Summary'!E7 -> 0 | L6: =D6-K6 -> 0
B7: Cemetery Expansion | C7: ='2021 Cash Reserve Summary'!D8 -> 0 | D7: ='Cemetery Expansion'!C19 -> 0 | E7: ='Cemetery Expansion'!D19 -> 0 | F7: ='Cemetery Expansion'!E19 -> 5000 | G7: ='Cemetery Expansion'!F19 -> 5000 | H7: ='Cemetery Expansion'!G19 -> 5000 | I7: ='Cemetery Expansion'!H19 -> 5000 | K7: ='2021 Cash Reserve Summary'!E8 -> 0 | L7: =D7-K7 -> 0
B8: Road Reconst. | C8: ='2021 Cash Reserve Summary'!D9 -> 150000 | D8: ='DPW Road Rehab'!C24 -> 200000 | E8: ='DPW Road Rehab'!D24 -> 250000 | F8: ='DPW Road Rehab'!E24 -> 300000 | G8: ='DPW Road Rehab'!F24 -> 300000 | H8: ='DPW Road Rehab'!G24 -> 300000 | I8: ='DPW Road Rehab'!H24 -> 300000 | K8: ='2021 Cash Reserve Summary'!E9 -> 200000 | L8: =D8-K8 -> 0
B9: Muni Trans Fund | C9: ='2021 Cash Reserve Summary'!D10 -> 0 | D9: 0 | E9: 0 | F9: 0 | G9: 0 | H9: 0 | I9: 0 | K9: ='2021 Cash Reserve Summary'!E10 -> 0 | L9: =D9-K9 -> 0
B10: Town Sidewalks | C10: ='2021 Cash Reserve Summary'!D11 -> 0 | D10: ='DPW Sidewalks'!C18 -> 10000 | E10: ='DPW Sidewalks'!D18 -> 10000 | F10: ='DPW Sidewalks'!E18 -> 10000 | G10: ='DPW Sidewalks'!F18 -> 10000 | H10: ='DPW Sidewalks'!G18 -> 10000 | I10: ='DPW Sidewalks'!H18 -> 10000 | K10: ='2021 Cash Reserve Summary'!E11 -> 10000 | L10: =D10-K10 -> 0
B11: Town Dams | C11: ='2021 Cash Reserve Summary'!D12 -> 10000 | D11: ='DPW Town Dams'!C16 -> 10000 | E11: ='DPW Town Dams'!D16 -> 10000 | F11: ='DPW Town Dams'!E16 -> 10000 | G11: ='DPW Town Dams'!F16 -> 10000 | H11: ='DPW Town Dams'!G16 -> 10000 | I11: ='DPW Town Dams'!H16 -> 10000 | K11: ='2021 Cash Reserve Summary'!E12 -> 10000 | L11: =D11-K11 -> 0
B12: Town Bridges | C12: ='2021 Cash Reserve Summary'!D13 -> 40000 | D12: ='DPW Bridges'!C18 -> 40000 | E12: ='DPW Bridges'!D18 -> 40000 | F12: ='DPW Bridges'!E18 -> 50000 | G12: ='DPW Bridges'!F18 -> 50000 | H12: ='DPW Bridges'!G18 -> 50000 | I12: ='DPW Bridges'!H18 -> 50000 | K12: ='2021 Cash Reserve Summary'!E13 -> 40000 | L12: =D12-K12 -> 0
B13: Covered Bridges | C13: ='2021 Cash Reserve Summary'!D14 -> 5000 | D13: ='DPW Covered Br'!C19 -> 5000 | E13: ='DPW Covered Br'!D19 -> 5000 | F13: ='DPW Covered Br'!E19 -> 5000 | G13: ='DPW Covered Br'!F19 -> 5000 | H13: ='DPW Covered Br'!G19 -> 5000 | I13: ='DPW Covered Br'!H19 -> 5000 | K13: ='2021 Cash Reserve Summary'!E14 -> 5000 | L13: =D13-K13 -> 0
A14: Emergency Mgmt.: | C14: ='2021 Cash Reserve Summary'!D15 -> 0 | K14: ='2021 Cash Reserve Summary'!E15 -> 0 | L14: =D14-K14 -> 0
B15: Facilities | C15: ='2021 Cash Reserve Summary'!D16 -> 0 | D15: 0 | E15: 0 | F15: 0 | G15: 0 | H15: 0 | I15: 0 | K15: ='2021 Cash Reserve Summary'!E16 -> 0 | L15: =D15-K15 -> 0
B16: Communications | C16: ='2021 Cash Reserve Summary'!D17 -> 5000 | D16: ='EM Fac & Com'!C30 -> 10000 | E16: ='EM Fac & Com'!D30 -> 10000 | F16: ='EM Fac & Com'!E30 -> 10000 | G16: ='EM Fac & Com'!F30 -> 10000 | H16: ='EM Fac & Com'!G30 -> 10000 | I16: ='EM Fac & Com'!H30 -> 10000 | K16: ='2021 Cash Reserve Summary'!E17 -> 10000 | L16: =D16-K16 -> 0
A17: Fire: | K17: ='2021 Cash Reserve Summary'!E18 -> 0 | L17: =D17-K17 -> 0
B18: Trucks | C18: ='2021 Cash Reserve Summary'!D19 -> 5000 | D18: ='Fire Trucks'!C23 -> 5000 | E18: ='Fire Trucks'!D23 -> 5000 | F18: ='Fire Trucks'!E23 -> 5000 | G18: ='Fire Trucks'!F23 -> 5000 | H18: ='Fire Trucks'!G23 -> 5000 | I18: ='Fire Trucks'!H23 -> 5000 | K18: ='2021 Cash Reserve Summary'!E19 -> 5000 | L18: =D18-K18 -> 0
B19: Vehicle Repairs/Replacement (NEW ACC'T) | C19: 0 | D19: 0 | E19: 0 | F19: 0 | G19: 0 | H19: 0 | I19: 0 | K19: ='2021 Cash Reserve Summary'!E20 -> 0 | L19: =D19-K19 -> 0
B20: Ponds | C20: ='2021 Cash Reserve Summary'!D21 -> 25000 | D20: ='Fire Ponds'!C19 -> 20000 | E20: ='Fire Ponds'!D19 -> 30000 | F20: ='Fire Ponds'!E19 -> 30000 | G20: ='Fire Ponds'!F19 -> 30000 | H20: ='Fire Ponds'!G19 -> 30000 | I20: ='Fire Ponds'!H19 -> 30000 | K20: ='2021 Cash Reserve Summary'!E21 -> 20000 | L20: =D20-K20 -> 0
B21: Tools | C21: ='2021 Cash Reserve Summary'!D22 -> 20000 | D21: ='Fire Tools'!C20 -> 10000 | E21: ='Fire Tools'!D20 -> 10000 | F21: ='Fire Tools'!E20 -> 10000 | G21: ='Fire Tools'!F20 -> 10000 | H21: ='Fire Tools'!G20 -> 5000 | I21: ='Fire Tools'!H20 -> 5000 | K21: ='2021 Cash Reserve Summary'!E22 -> 10000 | L21: =D21-K21 -> 0
B22: Station Maint. | C22: ='2021 Cash Reserve Summary'!D23 -> 0 | D22: =' Fire Sta. Maint ET'!C21 -> 0 | E22: =' Fire Sta. Maint ET'!D21 -> 0 | F22: =' Fire Sta. Maint ET'!E21 -> 0 | G22: =' Fire Sta. Maint ET'!F21 -> 0 | H22: =' Fire Sta. Maint ET'!G21 -> 0 | I22: =' Fire Sta. Maint ET'!H21 -> 0 | K22: ='2021 Cash Reserve Summary'!E23 -> 0 | L22: =D22-K22 -> 0
B23: Fire Station Cap Reserve | C23: ='2021 Cash Reserve Summary'!D24 -> 0 | D23: ='Fire Sta CR'!C23 -> 10000 | E23: ='Fire Sta CR'!D23 -> 10000 | F23: ='Fire Sta CR'!E23 -> 10000 | G23: ='Fire Sta CR'!F23 -> 10000 | H23: ='Fire Sta CR'!G23 -> 10000 | I23: ='Fire Sta CR'!H23 -> 10000 | K23: ='2021 Cash Reserve Summary'!E24 -> 10000 | L23: =D23-K23 -> 0
A24: Police: | K24: ='2021 Cash Reserve Summary'!E25 -> 0 | L24: =D24-K24 -> 0
B25: Cruisers | C25: ='2021 Cash Reserve Summary'!D26 -> 40000 | D25: ='PD Cruisers'!C26 -> 40000 | E25: ='PD Cruisers'!D26 -> 40000 | F25: ='PD Cruisers'!E26 -> 40000 | G25: ='PD Cruisers'!F26 -> 40000 | H25: ='PD Cruisers'!G26 -> 40000 | I25: ='PD Cruisers'!H26 -> 40000 | K25: ='2021 Cash Reserve Summary'!E26 -> 40000 | L25: =D25-K25 -> 0
B26: SD Revolver | C26: ='2021 Cash Reserve Summary'!D27 -> 0 | D26: 0 | E26: 0 | F26: ='DPW Town Dams'!E28 -> 0 | G26: ='DPW Town Dams'!F28 -> 0 | H26: ='DPW Town Dams'!G28 -> 0 | I26: ='DPW Town Dams'!H28 -> 0 | K26: ='2021 Cash Reserve Summary'!E27 -> 0 | L26: =D26-K26 -> 0
B27: IMS | C27: ='2021 Cash Reserve Summary'!D28 -> 3000 | D27: ='PD Other'!C20 -> 3000 | E27: ='PD Other'!D20 -> 3000 | F27: ='PD Other'!E20 -> 3000 | G27: ='PD Other'!F20 -> 3000 | H27: ='PD Other'!G20 -> 3000 | I27: ='PD Other'!H20 -> 3000 | K27: ='2021 Cash Reserve Summary'!E28 -> 3000 | L27: =D27-K27 -> 0
B28: Facilities | C28: ='2021 Cash Reserve Summary'!D29 -> 3000 | D28: ='PD Other'!C26 -> 3000 | E28: ='PD Other'!D26 -> 3000 | F28: ='PD Other'!E26 -> 3000 | G28: ='PD Other'!F26 -> 3000 | H28: ='PD Other'!G26 -> 3000 | I28: ='PD Other'!H26 -> 3000 | K28: ='2021 Cash Reserve Summary'!E29 -> 3000 | L28: =D28-K28 -> 0
K29: ='2021 Cash Reserve Summary'!E30 -> 0 | L29: =D29-K29 -> 0
A30: Department | C30: 2020 | D30: =1+C30 -> 2021 | E30: =1+D30 -> 2022 | F30: =1+E30 -> 2023 | G30: =1+F30 -> 2024 | H30: =1+G30 -> 2025 | I30: =1+H30 -> 2026
A31: Town Hall:
B32: ='2021 Cash Reserve Summary'!B31 -> Repairs & Expansion | C32: ='2021 Cash Reserve Summary'!D31 -> 0 | D32: ='Town Hall Expansion-Repairs'!C22 -> 0 | E32: ='Town Hall Expansion-Repairs'!D22 -> 0 | F32: ='Town Hall Expansion-Repairs'!E22 -> 0 | G32: ='Town Hall Expansion-Repairs'!F22 -> 0 | H32: ='Town Hall Expansion-Repairs'!G22 -> 0 | I32: ='Town Hall Expansion-Repairs'!H22 -> 0 | K32: ='2021 Cash Reserve Summary'!E31 -> 0 | L32: =D32-K32 -> 0
B33: IMS | C33: ='2021 Cash Reserve Summary'!D32 -> 15000 | D33: ='Town IMS'!C16 -> 10000 | E33: ='Town IMS'!D16 -> 10000 | F33: ='Town IMS'!E16 -> 10000 | G33: ='Town IMS'!F16 -> 10000 | H33: ='Town IMS'!G16 -> 10000 | I33: ='Town IMS'!H16 -> 10000 | K33: ='2021 Cash Reserve Summary'!E32 -> 10000 | L33: =D33-K33 -> 0
A34: Rail Trails | C34: 0 | D34: ='Rail Trails'!C16 -> 0 | E34: ='Rail Trails'!D16 -> 0 | F34: ='Rail Trails'!E16 -> 0 | G34: ='Rail Trails'!F16 -> 0 | H34: ='Rail Trails'!G16 -> 0 | I34: ='Rail Trails'!H16 -> 0 | K34: ='2021 Cash Reserve Summary'!E33 -> 0 | L34: =D34-K34 -> 0
A35: Recreation | C35: ='2021 Cash Reserve Summary'!D34 -> 10000 | D35: =Recreation!C21 -> 10000 | E35: =Recreation!D21 -> 10000 | F35: =Recreation!E21 -> 10000 | G35: =Recreation!F21 -> 10000 | H35: =Recreation!G21 -> 10000 | I35: =Recreation!H21 -> 10000 | K35: ='2021 Cash Reserve Summary'!E34 -> 10000 | L35: =D35-K35 -> 0
A36: Recycling Center: | K36: ='2021 Cash Reserve Summary'!E35 -> 0 | L36: =D36-K36 -> 0
B37: Reserve | C37: ='2021 Cash Reserve Summary'!D36 -> 0 | D37: =Recycling!C25 -> 50000 | E37: =Recycling!D25 -> 50000 | F37: =Recycling!E25 -> 50000 | G37: =Recycling!F25 -> 50000 | H37: =Recycling!G25 -> 50000 | I37: =Recycling!H25 -> 50000 | K37: ='2021 Cash Reserve Summary'!E36 -> 50000 | L37: =D37-K37 -> 0
B38: Revolver | C38: ='2021 Cash Reserve Summary'!D37 -> 0 | D38: 0 | E38: 0 | F38: 0 | G38: 0 | H38: 0 | I38: 0 | K38: ='2021 Cash Reserve Summary'!E37 -> 0 | L38: =D38-K38 -> 0
A39: Libraries: | K39: ='2021 Cash Reserve Summary'!E38 -> 0 | L39: =D39-K39 -> 0
B40: Mt. Caesar Library | C40: ='2021 Cash Reserve Summary'!D39 -> 3000 | D40: ='Lib-MCUL'!C22 -> 3000 | E40: ='Lib-MCUL'!D22 -> 3000 | F40: ='Lib-MCUL'!E22 -> 3000 | G40: ='Lib-MCUL'!F22 -> 3000 | H40: ='Lib-MCUL'!G22 -> 3000 | I40: ='Lib-MCUL'!H22 -> 3000 | K40: ='2021 Cash Reserve Summary'!E39 -> 3000 | L40: =D40-K40 -> 0
B41: Stratton Free Library | C41: ='2021 Cash Reserve Summary'!D40 -> 1000 | D41: ='Lib-SFL'!C19 -> 1000 | E41: ='Lib-SFL'!D19 -> 1000 | F41: ='Lib-SFL'!E19 -> 1000 | G41: ='Lib-SFL'!F19 -> 1000 | H41: ='Lib-SFL'!G19 -> 1000 | I41: ='Lib-SFL'!H19 -> 1000 | K41: ='2021 Cash Reserve Summary'!E40 -> 1000 | L41: =D41-K41 -> 0
...

Sheet Cemetery Expansion
A2: Ignore routine facility maintenance/replacement items, which should be in your General Fund operating expense budget.
A3: Please use amounts in even dollars; do not round to nearest thousand. Use notes to expand information when necessary.
A4: Note major changes from your prior budget. | I4: Items after 2026 over $50,000
A5: Item | B5: Comment/Purpose | C5: 2021 | D5: =C5+1 -> 2022 | E5: =D5+1 -> 2023 | F5: =E5+1 -> 2024 | G5: =F5+1 -> 2025 | H5: =G5+1 -> 2026 | I5: Item | J5: Amount
A6: Erosion mitigation -- Mt. View | D6: 20000 | J6: 20000
A7: Wall repair -- Oak Hill | D7: 10000
A8: Roads | C8: 5000 | D8: 5000 | E8: 5000 | I8: See Comments re. Proposed Change in Fund Use
A9: Tree work | C9: 20000 | D9: 10000 | G9: 5000
I13: TOTAL
B14: Totals | C14: =SUM(C6:C13) -> 25000 | D14: =SUM(D6:D13) -> 45000 | E14: =SUM(E6:E13) -> 5000 | F14: =SUM(F6:F13) -> 0 | G14: =SUM(G6:G13) -> 5000 | H14: =SUM(H6:H13) -> 0 | I14: =SUM(C14:H14) -> 80000
B16: 2020 Contribution | C16: 0
B18: Balance, Sept. 30, 2020 | C18: 70000 | D18: =C21 -> 45000 | E18: =D21 -> 0 | F18: =E21 -> 0 | G18: =F21 -> 5000 | H18: =G21 -> 5000
B19: CIP Cash Contributions | C19: 0 | D19: 0 | E19: 5000 | F19: =E19 -> 5000 | G19: =F19 -> 5000 | H19: =G19 -> 5000
B20: Disbursements | C20: =-C14 -> -25000 | D20: =-D14 -> -45000 | E20: =-E14 -> -5000 | F20: =-F14 -> 0 | G20: =-G14 -> -5000 | H20: =-H14 -> 0
B21: Balance, End of Year | C21: =SUM(C18:C20) -> 45000 | D21: =SUM(D18:D20) -> 0 | E21: =SUM(E18:E20) -> 0 | F21: =SUM(F18:F20) -> 5000 | G21: =SUM(G18:G20) -> 5000 | H21: =SUM(H18:H20) -> 10000

Sheet DPW-CEM Equip
A2: Ignore routine facility maintenance/replacement items, which should be in your General Fund operating expense budget.
A3: Please use amounts in even dollars; do not round to nearest thousand. Use notes to expand information when necessary. | M3: GRADER
A4: Note major changes from your prior budget. | I4: Items after 2026 over $50,000 | M4: cost/hr | N4: 300
A5: Item | B5: Purpose | C5: 2021 | D5: =C5+1 -> 2022 | E5: =D5+1 -> 2023 | F5: =E5+1 -> 2024 | G5: =F5+1 -> 2025 | H5: =G5+1 -> 2026 | I5: Item | J5: Amount | N5: 60
A6: Chipper | B6: Replace 25 year old chipper with a more modern version that has a winch to make it safer and more efficient | C6: 75000 | N6: =N4*N5 -> 18000
A7: F550 Dump Truck | B7: Road Maint (Replaces 2013) | I7: Purchased in 2020
A8: Int'l. Dump Truck | B8: Road Maint (replaces 2007) | D8: 185000 | I8: 2027 | J8: 200000
A9: F150 Pick Up | B9: Road Maint (replaces 2007) | D9: 60000
A10: F350 Pick Up | B10: Road Maint (replaces 2006) | E10: 80000
A11: Sidewalk Tractor | B11: Sidewalk Plowing | E11: 150000
A12: Backhoe | F12: 200000
A13: Road Grader | G13: 200000
A14: Trackless Sidewalk plow | H14: 150000
A15: Loader | I15: 2027 | J15: 250000
A16: Compact Excavater | B16: General and Cemetery Work | I16: 2027> | J16: 100000
A17: Other - Mowers, etc. | B17: Cem. and Town Property | C17: 10000 | D17: 7000 | E17: 7000 | F17: 7000 | G17: 7000 | H17: 7000
I18: TOTAL
B19: Totals | C19: =SUM(C6:C18) -> 85000 | D19: =SUM(D6:D18) -> 252000 | E19: =SUM(E6:E18) -> 237000 | F19: =SUM(F6:F18) -> 207000 | G19: =SUM(G6:G18) -> 207000 | H19: =SUM(H6:H18) -> 157000 | I19: =SUM(C19:H19) -> 1145000 | J19: =SUM(J7:J18) -> 550000
I20: 0
I21: =I19-I20 -> 1145000
I22: 6 | J22: yrs.
B23: 2020 Contribution | C23: 160000 | I23: =I21/I22 -> 190833.33
B25: Balance, Sept. 30, 2020 | C25: 419000 | D25: =C31 -> 389000 | E25: =D31 -> 287000 | F25: =E31 -> 275000 | G25: =F31 -> 218000 | H25: =G31 -> 161000
A26: 0 | B26: Late 2020 Disbursements | C26: -95000 | D26: 0 | E26: 0 | F26: 0 | G26: 0 | H26: 0
B27: CIP Cash Contributions | C27: 150000 | D27: =C27 -> 150000 | E27: =D27 -> 150000 | F27: =E27 -> 150000 | G27: =F27 -> 150000 | H27: =G27 -> 150000
B28: Grants | C28: 0 | D28: 0 | E28: 0 | F28: 0 | G28: 0 | H28: 0
B29: Snow Sidewalk Fund | C29: 0 | D29: 0 | E29: 75000 | F29: 0 | G29: 0 | H29: 0
B30: Disbursements | C30: =-C19 -> -85000 | D30: =-D19 -> -252000 | E30: =-E19 -> -237000 | F30: =-F19 -> -207000 | G30: =-G19 -> -207000 | H30: =-H19 -> -157000
B31: Balance, End of Year | C31: =SUM(C25:C30) -> 389000 | D31: =SUM(D25:D30) -> 287000 | E31: =SUM(E25:E30) -> 275000 | F31: =SUM(F25:F30) -> 218000 | G31: =SUM(G25:G30) -> 161000 | H31: =SUM(H25:H30) -> 154000

Sheet DPW Fleet
A4: Year | B4: Make/Model | C4: Type | D4: ID # | E4: Miles / Hours | F4: Estimated Replacement Cost (2020) | G4: CICP Recommended Replacement Year | H4: Department Recommended Replacement Year
A5: 2018 | B5: GMC 3500 | C5: Pick Up | D5: 1 | E5: 38918 | F5: 110000 | G5: 2027 | H5: 2027
A6: 2013 | B6: International 7400 | C6: Dump Truck | D6: 2 | E6: 38847 | F6: 165000 | G6: 2028 | H6: 2028
A7: 2020 | B7: International 7400 | C7: Dump Truck | D7: 3 | E7: 1938 | F7: 165000 | G7: 2035 | H7: 2035
A8: 2016 | B8: International 7400 | C8: Dump Truck | D8: 4 | E8: 20043 | F8: 165000 | G8: 2031 | H8: 2031
A9: 2007 | B9: International 7400 | C9: Dump Truck | D9: 5 | E9: 63770 | F9: 185000 | G9: 2021 | H9: 2022
A10: 2008 | B10: F550 Small | C10: Dump Truck | D10: 6 | E10: 94478 | F10: 120000 | G10: Not Listed | H10: 2020
A11: 2013 | B11: F550 Small | C11: Dump Truck | D11: 7 | E11: 70284 | F11: 130000 | G11: 2023 | H11: 2021
A12: 2006 | B12: F350 Flat Bed | C12: Pick Up | D12: 8 | E12: 82657 | F12: 80000 | G12: 2021 | H12: 2021
A13: 2007 | B13: F150 | C13: Pick Up | D13: 30 | E13: 70112 | F13: 40000 | G13: Not Listed
A14: 2004 | B14: F550 Small | C14: Dump Truck | D14: 31 | E14: 113575 | F14: 100000 | G14: 2020 | H14: 2020
A15: 2011 | B15: John Deere | C15: Loader | E15: 1781 | F15: 250000 | G15: 2023 | H15: 2025
A16: 2014 | B16: New Holland | C16: Back Hoe | E16: 1245 Hrs. | F16: 200000 | G16: 2024 | H16: 2024
A17: 1995 | B17: Champion | C17: Grader | E17: 5272 Hrs. | F17: 300000 | G17: 2020 | H17: 2023
A18: 1989 | B18: Bombardier Side Walk | C18: Plow | E18: 2082 | F18: 100000 | G18: 2023 | H18: 2023
A19: 1995 | B19: Trackless Side Walk | C19: Plow | E19: 3126 | F19: 100000 | G19: Not Listed | H19: 2026
A20: 1993 | B20: Bandit Chipper | C20: Chipper | E20: 200 Hrs. | F20: 70000 | G20: 2020 | H20: 2022
A21: Total | F21: =SUM(F5:F20) -> 2280000
B22: Note: $20,000 is the cost of the spreader for the International Dump Trucks. 165,000 is the base cost. For the F550 Small the base cost is 120,000 and the extra 10,000 is for the expansion of the Cab to allow for safety equipment and plowing wings.

Sheet DPW Facilities
A2: Ignore routine facility maintenance/replacement items, which should be in your General Fund operating expense budget.
A3: Please use amounts in even dollars; do not round to nearest thousand. Use notes to expand information when necessary.
A4: Note major changes from your prior budget. | I4: Items after 2026 over $50,000
A5: Item | B5: Comment/Purpose | C5: 2021 | D5: =C5+1 -> 2022 | E5: =D5+1 -> 2023 | F5: =E5+1 -> 2024 | G5: =F5+1 -> 2025 | H5: =G5+1 -> 2026 | I5: Item | J5: Amount
A6: DPW Roof | C6: 5000 | F6: 35000
A7: Minimal improvements to 120 Pine Street | C7: 5000 | D7: 5000 | I7: Further study deferred to 2022 Budget due to personnel change.
A8: Major Facility Upgrade | B8: TBD | E8: 10000 | F8: 500000
I11: TOTAL
B12: Totals | C12: =SUM(C6:C11) -> 10000 | D12: =SUM(D6:D11) -> 5000 | E12: =SUM(E6:E11) -> 10000 | F12: =SUM(F6:F11) -> 535000 | G12: =SUM(G6:G11) -> 0 | H12: =SUM(H6:H11) -> 0 | I12: =SUM(C12:H12) -> 560000
B14: 2020 Contribution | C14: 0
B16: Balance, Sept. 30, 2020 | C16: 98000 | D16: =C21 -> 85000 | E16: =D21 -> 77000 | F16: =E21 -> 64000 | G16: =F21 -> 26000 | H16: =G21 -> 23000
B17: Late 2020 Disbursements | C17: -3000 | D17: =C17 -> -3000 | E17: =D17 -> -3000 | F17: =E17 -> -3000 | G17: =F17 -> -3000 | H17: =G17 -> -3000
B18: CIP Cash Contributions | C18: 0 | D18: =C18 -> 0 | E18: 0 | F18: =E18 -> 0 | G18: =F18 -> 0 | H18: =G18 -> 0
B19: Bonding | C19: 0 | D19: 0 | E19: 0 | F19: 500000 | G19: 0 | H19: 0
B20: Disbursements | C20: =-C12 -> -10000 | D20: =-D12 -> -5000 | E20: =-E12 -> -10000 | F20: =-F12 -> -535000 | G20: =-G12 -> 0 | H20: =-H12 -> 0
B21: Balance, End of Year | C21: =SUM(C16:C20) -> 85000 | D21: =SUM(D16:D20) -> 77000 | E21: =SUM(E16:E20) -> 64000 | F21: =SUM(F16:F20) -> 26000 | G21: =SUM(G16:G20) -> 23000 | H21: =SUM(H16:H20) -> 20000
E26: Bond | F26: =F19 -> 500000
E27: rate | F27: 0.05
E28: term | F28: 20
E29: debt serv | F29: =-PMT(F27,F28,F26) -> 40121.294

Sheet DPW Road Rehab
A2: Ignore routine facility maintenance/replacement items, which should be in your General Fund operating expense budget.
A3: Please use amounts in even dollars; do not round to nearest thousand. Use notes to expand information when necessary.
A4: Note major changes from your prior budget. | I4: Items after 2026 over $50,000
A5: Item | B5: Comment/Purpose | C5: 2021 | D5: =C5+1 -> 2022 | E5: =D5+1 -> 2023 | F5: =E5+1 -> 2024 | G5: =F5+1 -> 2025 | H5: =G5+1 -> 2026 | I5: Item | J5: Amount
A6: South Winchester Street | B6: Reconstruction/Repave (50% grant received) | C6: 610000
A7: West Street (east side) | B7: Reconstruction (50% grant received) | C7: 270000
A8: Swanzey Street | B8: Reconstruction (50% grant received) | C8: 70000
A9: Talbot Hill Road | B9: Reconstruction | C9: 400000 | D9: 100000
A10: Marcy Hill / Fox Run / Sugar Hill | B10: Reconstruction/Repave | E10: 375000 | F10: 375000
A11: North Winchester Street | B11: Reconstruction | G11: 250000 | H11: 250000
A12: Spring Street | B12: Reconstruction | I12: 2027 | J12: 250000
A13: Prospect Street | B13: Reconstruction | I13: 2027 | J13: 75000
A14: Christian Hill Road | B14: Reconstruction | H14: 500000
A15: California St. / California Brook Road | B15: Reconstruction | J15: Unknown
A16: Webber Hill | B16: Erosion -- Under Study | J16: Unknown
I17: TOTAL
A18: All items are inclusive of design costs. | B18: Totals | C18: =SUM(C6:C16) -> 1350000 | D18: =SUM(D6:D16) -> 100000 | E18: =SUM(E6:E16) -> 375000 | F18: =SUM(F6:F16) -> 375000 | G18: =SUM(G6:G16) -> 250000 | H18: =SUM(H6:H16) -> 750000 | I18: =SUM(C18:H18) -> 3200000 | J18: =SUM(J6:J16) -> 325000
I19: 6 | J19: yrs
B20: 2020 Contribution | C20: 150000 | I20: =I18/I19 -> 533333.33 | J20: Spend Rate
B22: Balance, Sept. 30, 2020 | C22: 298000 | D22: =C30 -> 14000 | E22: =D30 -> 164000 | F22: =E30 -> 164000 | G22: =F30 -> 104000 | H22: =G30 -> 154000 | J22: =H30 -> 29000
B23: Late 2020 Disbursements | C23: -10000 | D23: 0 | E23: 0 | F23: 0 | G23: 0 | H23: 0 | J23: 0
B24: CIP Cash Contributions | C24: 200000 | D24: 250000 | E24: 300000 | F24: 300000 | G24: =F24 -> 300000 | H24: =G24 -> 300000 | J24: =H24*1 -> 300000
B25: Snow Sidewalk Fund | C25: 165000 | D25: 0 | E25: 0 | F25: 0 | G25: 0 | H25: 75000 | J25: 100000
B26: Northern Counties Grant (see above) | C26: 475000 | D26: 0 | E26: 0 | F26: 0 | G26: 0 | H26: 0 | J26: 0
B27: MAST Grant (Sidewalks) | C27: 36000 | D27: 0 | E27: 0 | F27: 0 | G27: 0 | H27: 0 | J27: 0
B28: Use of Muni Trans Funds | C28: 200000 | D28: 0 | E28: 75000 | F28: 15000 | G28: 0 | H28: 250000 | J28: 0
B29: Disbursements | C29: =-C18 -> -1350000 | D29: =-D18 -> -100000 | E29: =-E18 -> -375000 | F29: =-F18 -> -375000 | G29: =-G18 -> -250000 | H29: =-H18 -> -750000 | J29: =-J18 -> -325000
B30: Balance, End of Year | C30: =SUM(C22:C29) -> 14000 | D30: =SUM(D22:D29) -> 164000 | E30: =SUM(E22:E29) -> 164000 | F30: =SUM(F22:F29) -> 104000 | G30: =SUM(G22:G29) -> 154000 | H30: =SUM(H22:H29) -> 29000 | J30: =SUM(J22:J29) -> 104000
B31: Muni Trans Balance | C31: ='DPW Muni Trans & Snow SW Fd'!C18 -> 108000 | D31: ='DPW Muni Trans & Snow SW Fd'!D18 -> 158000 | E31: ='DPW Muni Trans & Snow SW Fd'!E18 -> 133000 | F31: ='DPW Muni Trans & Snow SW Fd'!F18 -> 168000 | G31: ='DPW Muni Trans & Snow SW Fd'!G18 -> 218000 | H31: ='DPW Muni Trans & Snow SW Fd'!H18 -> 18000 | I31: Critical Reserve | J31: =H31+(1*50000)-J28 -> 68000
B32: Snow Sidewalk Fund Balance | C32: ='DPW Muni Trans & Snow SW Fd'!C26 -> 108000 | D32: ='DPW Muni Trans & Snow SW Fd'!D26 -> 158000 | E32: ='DPW Muni Trans & Snow SW Fd'!E26 -> 283000 | F32: ='DPW Muni Trans & Snow SW Fd'!F26 -> 333000 | G32: ='DPW Muni Trans & Snow SW Fd'!G26 -> 383000 | H32: ='DPW Muni Trans & Snow SW Fd'!H26 -> 358000 | J32: =H32+(1*50000)-J25 -> 308000
A38: Steve - I should have added that for road reconstruction funding purposes I think it is safe to assume the road bond will be spent on projects this year and that currently held funds will be mostly
A39: spent matching grant funds for the South Winchester/West/Swanzey Street project. We're trying to close out the books on the Eaton Road project, which will provide more clarity and hopefully more funds/flexibility.
A40: We will be under budget, I'm just not sure how far under yet.

Sheet DPW Muni Trans & Snow SW Fd
A2: Ignore routine facility maintenance/replacement items, which should be in your General Fund operating expense budget.
A3: Please use amounts in even dollars; do not round to nearest thousand. Use notes to expand information when necessary.
A4: Note major changes from your prior budget. | I4: Items after 2026 over $50,000
A5: Item | B5: Comment/Purpose | C5: 2021 | D5: =C5+1 -> 2022 | E5: =D5+1 -> 2023 | F5: =E5+1 -> 2024 | G5: =F5+1 -> 2025 | H5: =G5+1 -> 2026 | I5: Item | J5: Amount
A6: Transfer to Road Rehab. | C6: ='DPW Road Rehab'!C28 -> 200000 | D6: ='DPW Road Rehab'!D28 -> 0 | E6: ='DPW Road Rehab'!E28 -> 75000 | F6: ='DPW Road Rehab'!F28 -> 15000 | G6: ='DPW Road Rehab'!G28 -> 0 | H6: ='DPW Road Rehab'!H28 -> 250000
A7: Transfer to Rail Trails | B7: Some funds may have to be allocated to the Rail Trails or other grant matches. | J7: ???
I11: TOTAL
B12: Totals | C12: =SUM(C6:C11) -> 200000 | D12: =SUM(D6:D11) -> 0 | E12: =SUM(E6:E11) -> 75000 | F12: =SUM(F6:F11) -> 15000 | G12: =SUM(G6:G11) -> 0 | H12: =SUM(H6:H11) -> 250000 | I12: =SUM(C12:H12) -> 540000
B14: Muni Trans:
B15: Balance, Sept. 30, 2020 | C15: 258000 | D15: =C18 -> 108000 | E15: =D18 -> 158000 | F15: =E18 -> 133000 | G15: =F18 -> 168000 | H15: =G18 -> 218000
B16: Contributions | C16: 50000 | D16: 50000 | E16: =D16 -> 50000 | F16: =E16 -> 50000 | G16: =F16 -> 50000 | H16: =G16 -> 50000 | I16: Via MV Reg. Fees
B17: Disbursements | C17: =-C12 -> -200000 | D17: =-D12 -> 0 | E17: =-E12 -> -75000 | F17: =-F12 -> -15000 | G17: =-G12 -> 0 | H17: =-H12 -> -250000
B18: Balance, End of Year | C18: =SUM(C15:C17) -> 108000 | D18: =SUM(D15:D17) -> 158000 | E18: =SUM(E15:E17) -> 133000 | F18: =SUM(F15:F17) -> 168000 | G18: =SUM(G15:G17) -> 218000 | H18: =SUM(H15:H17) -> 18000
B20: Snow Sidewalk Fund:
B21: Balance, Sept. 30, 2020 | C21: 223000 | D21: =C26 -> 108000 | E21: =D26 -> 158000 | F21: =E26 -> 283000 | G21: =F26 -> 333000 | H21: =G26 -> 383000
B22: Income | C22: 50000 | D22: =C22 -> 50000 | E22: =D22 -> 50000 | F22: =E22 -> 50000 | G22: =F22 -> 50000 | H22: =G22 -> 50000
B23: Disbursements:
B24: Plow Tractor | C24: 0 | D24: 0 | E24: ='DPW-CEM Equip'!E29 -> 75000 | F24: =-'DPW-CEM Equip'!F29 -> 0 | G24: 0 | H24: 0
B25: Sidewalks | C25: =-'DPW Road Rehab'!C25 -> -165000 | D25: =-'DPW Road Rehab'!D25 -> 0 | E25: =-'DPW Road Rehab'!E25 -> 0 | F25: =-'DPW Road Rehab'!F25 -> 0 | G25: =-'DPW Road Rehab'!G25 -> 0 | H25: =-'DPW Road Rehab'!H25 -> -75000
B26: Balance, End of Year | C26: =SUM(C21:C25) -> 108000 | D26: =SUM(D21:D25) -> 158000 | E26: =SUM(E21:E25) -> 283000 | F26: =SUM(F21:F25) -> 333000 | G26: =SUM(G21:G25) -> 383000 | H26: =SUM(H21:H25) -> 358000

Sheet DPW Road Maint. - MEMO
A2: Ignore routine facility maintenance/replacement items, which should be in your General Fund operating expense budget.
A3: Please use amounts in even dollars; do not round to nearest thousand. Use notes to expand information when necessary.
A4: Note major changes from your prior budget. | I4: Items after 2026 over $50,000
A5: Item | B5: Comment/Purpose | C5: 2021 | D5: =C5+1 -> 2022 | E5: =D5+1 -> 2023 | F5: =E5+1 -> 2024 | G5: =F5+1 -> 2025 | H5: =G5+1 -> 2026 | I5: Item | J5: Amount
A6: Birch (AKA Massey) | B6: Repave & improve drainage | C6: 100000
A7: Denman Thompson | B7: Repave | C7: 85000
A8: Morningside | B8: Repave | C8: 22000
A9: Hutch | B9: Repave | C9: 28000
A10: Cross | B10: Repave | D10: 12000
A11: Davis | B11: Repave | D11: 35000
A12: Sawmill | B12: Chip seal / micro surface | D12: 17000 | I12: GENERAL FUND MAINTENANCE - NOT CAPITAL BUDGET FOR INFORMATION ONLY
A13: Westbrook | B13: Chip seal / micro surface | D13: 29000
A14: Taft | B14: Chip seal / micro surface | D14: 35000
A15: Aldrich | B15: Chip seal / micro surface | D15: 25000
A16: Joslin | B16: Repave | D16: 30000
A17: Day | B17: Repave | D17: 35000
A18: Ridge | B18: Repave | D18: 40000
A19: Cram Hill | B19: Repave | E19: 100000
A20: Pebble Hill | B20: Repave | E20: 80000
A21: Dunn Hill | B21: Repave | E21: 56000
A22: West (west of Rt 10) | B22: Repave | F22: 250000
A23: Arrowcrest | B23: Repave | G23: 46000
A24: Forest | B24: Chip seal / micro surface | G24: 65000
A25: TBD | B25: Repave / Chip Seal / Micro Surface | G25: 110000 | H25: 250000
A26: Supplies DPW (NEW) | C26: 15000 | D26: 15000 | E26: 15000 | F26: 15000 | G26: 15000 | H26: 15000
I27: TOTAL
B28: Totals | C28: =SUM(C6:C26) -> 250000 | D28: =SUM(D6:D26) -> 273000 | E28: =SUM(E6:E26) -> 251000 | F28: =SUM(F6:F26) -> 265000 | G28: =SUM(G6:G26) -> 236000 | H28: =SUM(H6:H26) -> 265000 | I28: =SUM(C28:H28) -> 1540000 | J28: =SUM(J6:J19) -> 0
H30: 2020 Budget | I30: 1410000

Sheet DPW Sidewalks
A2: Ignore routine facility maintenance/replacement items, which should be in your General Fund operating expense budget. | I2: NEW FUND
A3: Please use amounts in even dollars; do not round to nearest thousand. Use notes to expand information when necessary.
A4: Note major changes from your prior budget. | I4: Items after 2026 over $50,000
A5: Item | B5: Comment/Purpose | C5: 2021 | D5: =C5+1 -> 2022 | E5: =D5+1 -> 2023 | F5: =E5+1 -> 2024 | G5: =F5+1 -> 2025 | H5: =G5+1 -> 2026 | I5: Item | J5: Amount
A6: Sidewalk Expansions | B6: From existing Sawyers Crossing sidewalk to Cresson Covered Bridge | D6: 50000
A7: Sidewalk Expansions | B7: From existing Rt. 32 sidewalk north past post office towards Swanzey Neighbors store | E7: 50000 | I7: Amounts are placeholders for future discussion only.
A8: Sidewalk Expansions | B8: Improvements to existing sidewalk system along Rt. 12 | F8: 50000
A9: Sidewalk Expansions | B9: Improvements to existing sidewalk system along Rt. 12 | G9: 50000
A10: Sidewalk Expansions | B10: Improvements to existing sidewalk system along Rt. 12 | H10: 50000
I12: TOTAL
B13: Totals | C13: =SUM(C6:C12) -> 0 | D13: =SUM(D6:D12) -> 50000 | E13: =SUM(E6:E12) -> 50000 | F13: =SUM(F6:F12) -> 50000 | G13: =SUM(G6:G12) -> 50000 | H13: =SUM(H6:H12) -> 50000 | I13: =SUM(C13:H13) -> 250000 | J13: =SUM(J6:J12) -> 0
A14: All projects assume other grant funds to help offset costs and numbers are likely low.
B15: 2020 Contribution | C15: 0
B17: Balance, 2020 | C17: 0 | D17: =C23 -> 51000 | E17: =D23 -> 36000 | F17: =E23 -> 21000 | G17: =F23 -> 6000 | H17: =G23 -> -9000
B18: CIP Cash Contributions | C18: 10000 | D18: 10000 | E18: 10000 | F18: =E18 -> 10000 | G18: =F18 -> 10000 | H18: =G18 -> 10000 | I18: This fund covers sidewalks not eligible for the Snow (West Swz) Sidewalk Fund.
B19: Financing | C19: 0 | D19: 0 | E19: 0 | F19: 0 | G19: 0 | H19: 0
B20: Grants | C20: 41000 | D20: 25000 | E20: 25000 | F20: 25000 | G20: 25000 | H20: 25000
B21: Other | C21: 0 | D21: 0 | E21: 0 | F21: 0 | G21: 0 | H21: 0
B22: Disbursements | C22: =-C13 -> 0 | D22: =-D13 -> -50000 | E22: =-E13 -> -50000 | F22: =-F13 -> -50000 | G22: =-G13 -> -50000 | H22: =-H13 -> -50000
B23: Balance, End of Year | C23: =SUM(C17:C22) -> 51000 | D23: =SUM(D17:D22) -> 36000 | E23: =SUM(E17:E22) -> 21000 | F23: =SUM(F17:F22) -> 6000 | G23: =SUM(G17:G22) -> -9000 | H23: =SUM(H17:H22) -> -24000

Sheet DPW Town Dams
A2: Ignore routine facility maintenance/replacement items, which should be in your General Fund operating expense budget.
A3: Please use amounts in even dollars; do not round to nearest thousand. Use notes to expand information when necessary.
A4: Note major changes from your prior budget. | I4: Items after 2026 over $50,000
A5: Item | B5: Purpose | C5: 2021 | D5: =C5+1 -> 2022 | E5: =D5+1 -> 2023 | F5: =E5+1 -> 2024 | G5: =F5+1 -> 2025 | H5: =G5+1 -> 2026 | I5: Item | J5: Amount
A6: Upper Wilson Pond Dam | B6: Engineering (35% Town, 65% FEMA) | C6: 35000
A7: Upper Wilson Pond Dam | B7: Improvements (35% Town, 65% FEMA) | D7: 200000 | I7: SUBJECT TO GRANT RECEIPT
A8: Swanzey Lake Dam | B8: Repair. DES is requiring that we engage a consultant to review the dam and assess its condition by 8/2022, and if repairs are warranted make them by 9/2024. Cost is a guess at this point. | I8: 150000
I10: TOTAL
B11: Totals | C11: =SUM(C6:C10) -> 35000 | D11: =SUM(D6:D10) -> 200000 | E11: =SUM(E6:E10) -> 0 | F11: =SUM(F6:F10) -> 0 | G11: =SUM(G6:G10) -> 0 | H11: =SUM(H6:H10) -> 0 | I11: =SUM(C11:H11) -> 235000 | J11: =SUM(J7:J10) -> 0
B13: 2020 Contribution | C13: 10000
B15: Balance, Sept. 30, 2020 | C15: 158000 | D15: =C21 -> 133000 | E15: =D21 -> 8000 | F15: =E21 -> 18000 | G15: =F21 -> 28000 | H15: =G21 -> 38000
B16: CIP Cash Contributions | C16: 10000 | D16: =C16 -> 10000 | E16: =D16 -> 10000 | F16: =E16 -> 10000 | G16: =F16 -> 10000 | H16: =G16 -> 10000
B17: State/Federal Funding | C17: 0 | D17: 0 | E17: 0 | F17: 0 | G17: 0 | H17: 0
B18: FEMA Grant | C18: 0 | D18: 65000 | E18: 0 | F18: 0 | G18: 0 | H18: 0
B19: Bonding | C19: 0 | D19: 0 | E19: 0 | F19: 0 | G19: 0 | H19: 0 | I19: Combine with another project.
B20: Disbursements | C20: =-C11 -> -35000 | D20: =-D11 -> -200000 | E20: =-E11 -> 0 | F20: =-F11 -> 0 | G20: =-G11 -> 0 | H20: =-H11 -> 0
B21: Balance, End of Year | C21: =SUM(C15:C20) -> 133000 | D21: =SUM(D15:D20) -> 8000 | E21: =SUM(E15:E20) -> 18000 | F21: =SUM(F15:F20) -> 28000 | G21: =SUM(G15:G20) -> 38000 | H21: =SUM(H15:H20) -> 48000
C28: Bond | D28: =#REF! -> #REF!
C29: rate | D29: 0.035
C30: term | D30: 10
C31: debt serv | D31: =-PMT(D29,D30,D28) -> #REF!

Sheet DPW Bridges
A2: Ignore routine facility maintenance/replacement items, which should be in your General Fund operating expense budget.
A3: Please use amounts in even dollars; do not round to nearest thousand. Use notes to expand information when necessary.
A4: Note major changes from your prior budget. | I4: Items after 2026 over $50,000
A5: Item | B5: Purpose | C5: 2021 | D5: =C5+1 -> 2022 | E5: =D5+1 -> 2023 | F5: =E5+1 -> 2024 | G5: =F5+1 -> 2025 | H5: =G5+1 -> 2026 | I5: Item | J5: Amount
A6: Christian Hill Road | B6: Reconstruction * | F6: 225000
A7: Forest Avenue | B7: Upsize culvert that is undersized, likely resulting in bridge classification. Costs preliminary. * | G7: 150000 | K7: 630,000 Total est.
A8: California Brook Road | B8: Upsize culvert that is undersized, likely resulting in bridge classification. Costs preliminary and grants are being explored. * | H8: 150000 | K8: 730,000 Total est.
A9: Denman Thompson (Steel) | B9: Replace Decking | J9: 30000
B10: * Town portion only | I10: TOTAL
B11: Totals | C11: =SUM(C6:C10) -> 0 | D11: =SUM(D6:D10) -> 0 | E11: =SUM(E6:E10) -> 0 | F11: =SUM(F6:F10) -> 225000 | G11: =SUM(G6:G10) -> 150000 | H11: =SUM(H6:H10) -> 150000 | I11: =SUM(C11:H11) -> 525000 | J11: =SUM(J6:J10) -> 30000
A12: * Estimated net of state/federal funding. | I12: 6 | J12: yrs.
I13: =I11/I12 -> 87500
B14: 2020 Contribution | C14: 40000
B16: Balance, September 30, 2020 | C16: 104000 | D16: =C22 -> 120000 | E16: =D22 -> 160000 | F16: =E22 -> 210000 | G16: =F22 -> 35000 | H16: =G22 -> -15000
B17: Late 2020 Disbursements | C17: -24000 | D17: 0 | E17: 0 | F17: 0 | G17: 0 | H17: 0 | I17: Christan Hill Engineering
B18: CIP Cash Contributions | C18: 40000 | D18: =C18 -> 40000 | E18: 50000 | F18: =E18 -> 50000 | G18: =F18 -> 50000 | H18: =G18 -> 50000
B19: Grants | C19: 0 | D19: 0 | E19: 0 | F19: 0 | G19: 50000 | H19: 50000
B20: Bonding | C20: 0 | D20: 0 | E20: 0 | F20: 0 | G20: 0 | H20: 0
B21: Disbursements | C21: =-C11 -> 0 | D21: =-D11 -> 0 | E21: =-E11 -> 0 | F21: =-F11 -> -225000 | G21: =-G11 -> -150000 | H21: =-H11 -> -150000
B22: Balance, End of Year | C22: =SUM(C16:C21) -> 120000 | D22: =SUM(D16:D21) -> 160000 | E22: =SUM(E16:E21) -> 210000 | F22: =SUM(F16:F21) -> 35000 | G22: =SUM(G16:G21) -> -15000 | H22: =SUM(H16:H21) -> -65000

Sheet DPW Covered Br
A2: Ignore routine facility maintenance/replacement items, which should be in your General Fund operating expense budget.
A3: Please use amounts in even dollars; do not round to nearest thousand. Use notes to expand information when necessary.
A4: Note major changes from your prior budget. | I4: Items after 2026 over $50,000
A5: Item | B5: Purpose | C5: 2021 | D5: =C5+1 -> 2022 | E5: =D5+1 -> 2023 | F5: =E5+1 -> 2024 | G5: =F5+1 -> 2025 | H5: =G5+1 -> 2026 | I5: Item | J5: Amount
A6: Thompson Bridge | B6: Painting | C6: 30000
A7: Carlton Bridge | B7: Replace Decking | D7: 20000
A8: Cresson Bridge | B8: Replace Decking | E8: 30000
A9: Slate Bridge | B9: Replace Decking | G9: 30000
I11: TOTAL
B12: Totals | C12: =SUM(C6:C11) -> 30000 | D12: =SUM(D6:D11) -> 20000 | E12: =SUM(E6:E11) -> 30000 | F12: =SUM(F6:F11) -> 0 | G12: =SUM(G6:G11) -> 30000 | H12: =SUM(H6:H11) -> 0 | I12: =SUM(C12:H12) -> 110000 | J12: =SUM(J6:J11) -> 0
I13: 6 | J13: yrs.
I14: =I12/I13 -> 18333.333
B16: 2020 Contribution | C16: 5000
B18: Balance, September 30, 2020 | C18: 95000 | D18: =C21 -> 70000 | E18: =D21 -> 55000 | F18: =E21 -> 30000 | G18: =F21 -> 35000 | H18: =G21 -> 10000
B19: CIP Cash Contributions | C19: 5000 | D19: 5000 | E19: 5000 | F19: 5000 | G19: 5000 | H19: 5000
B20: Disbursements | C20: =-C12 -> -30000 | D20: =-D12 -> -20000 | E20: =-E12 -> -30000 | F20: =-F12 -> 0 | G20: =-G12 -> -30000 | H20: =-H12 -> 0
B21: Balance, End of Year | C21: =SUM(C18:C20) -> 70000 | D21: =SUM(D18:D20) -> 55000 | E21: =SUM(E18:E20) -> 30000 | F21: =SUM(F18:F20) -> 35000 | G21: =SUM(G18:G20) -> 10000 | H21: =SUM(H18:H20) -> 15000

Sheet EM Fac & Com
A2: Ignore routine facility maintenance/replacement items, which should be in your General Fund operating expense budget.
A3: Please use amounts in even dollars; do not round to nearest thousand. Use notes to expand information when necessary.
A4: Note major changes from your prior budget. | I4: Items after 2026 over $50,000
A5: Item | B5: Purpose | C5: 2021 | D5: =C5+1 -> 2022 | E5: =D5+1 -> 2023 | F5: =E5+1 -> 2024 | G5: =F5+1 -> 2025 | H5: =G5+1 -> 2026 | I5: Item | J5: Amount
A6: EM Facilities: | J6: 0
A7: Town Hall Generator | C7: 20000
A8: E-Communications:
A9: Fire - Portable & mobile radios: | B9: Replace all department radios - Communication ETF | I9: Portable radio mfg. service terminates in 2021
A10: Portable APX 6000 - 32 units @ $1,950 | B10: General Use | C10: =1950*8 -> 15600 | D10: =1950*8 -> 15600 | E10: =1950*8 -> 15600 | F10: =1950*8 -> 15600 | N10: are these prices after discount? | P10: Extension | Q10: Budget
A11: Portable APX 8000 - 6 units @ $3,600 | B11: Command dual bands | C11: =3600*2 -> 7200 | D11: =3600*2 -> 7200 | E11: =3600*2 -> 7200 | L11: FD Radios Option 1 | M11: Motorola APX 8000 x10 | N11: $3,600 per radio | O11: Officers only this year, 40% Discount | P11: =10*3600 -> 36000 | Q11: 33000
A12: Mobile APX 8000 - 4 units @3,300 * | B12: Command dual bands | C12: =3300*2 -> 6600 | E12: =3300*2 -> 6600
A13: Base Stations (3) | B13: TBD | I13: Need for dual bands TBD | J13: 21000 | L13: FD Radios Option 2 | M13: Motorola APX 6000 x10 | N13: $1,936 per radio | O13: Officers only this year, 40% Discount | P13: =10*1936 -> 19360 | Q13: 33000
A14: Repeaters (2) | B14: TBD | J14: 20000
A15: Police - Portable Radios | D15: 15000 | E15: 15000 | L15: FD Radios Option 3 | M15: APX 8000* x4, 6000**x6 | O15: 8000s for Chiefs, 6000s for Captains and Lts. | P15: =6*1936+4*3600 -> 26016 | Q15: 33000
I16: TOTAL | M16: Before we had 6000s and 4000s; what is the 8000?
A17: * New vehicle costs should include radios. | B17: Totals | C17: =SUM(C6:C16) -> 49400 | D17: =SUM(D7:D16) -> 37800 | E17: =SUM(E6:E16) -> 44400 | F17: =SUM(F6:F16) -> 15600 | G17: =SUM(G6:G16) -> 0 | H17: =SUM(H6:H16) -> 0 | I17: =SUM(C17:H17) -> 147200 | J17: =SUM(J6:J16) -> 41000 | M17: Do we still need 40 4000 units?
I18: 6 | J18: yrs.
A19: 2020 Contributions: | B19: EM Facilities | C19: 0 | I19: =I17/I18 -> 24533.333
B20: EM Communications | C20: 5000
B22: EM Facilities:
B23: Balance, September 30, 2020 | C23: 42000 | D23: =C26 -> 22000 | E23: =D26 -> 22000 | F23: =E26 -> 22000 | G23: =F26 -> 22000 | H23: =G26 -> 22000
B24: CIP Cash Contributions | C24: 0 | D24: =C24 -> 0 | E24: =D24 -> 0 | F24: =E24 -> 0 | G24: =F24 -> 0 | H24: 0
B25: Expenditures | C25: =-C7 -> -20000 | D25: 0 | E25: =-E6 -> 0 | F25: =-F6 -> 0 | G25: =-G6 -> 0 | H25: =-H6 -> 0
B26: Ending Balance | C26: =SUM(C23:C25) -> 22000 | D26: =SUM(D23:D25) -> 22000 | E26: =SUM(E23:E25) -> 22000 | F26: =SUM(F23:F25) -> 22000 | G26: =SUM(G23:G25) -> 22000 | H26: =SUM(H23:H25) -> 22000
B27: Emergency Communications:
B28: Balance, September 30, 2020 | C28: 109000 | D28: =C32 -> 69600 | E28: =D32 -> 41800 | F28: =E32 -> 7400 | G28: =F32 -> 1800 | H28: =G32 -> 11800
B29: Grants | C29: 0 | D29: 0 | E29: 0 | F29: =0.5*F9 -> 0 | G29: 0 | H29: 0
B30: CIP Cash Contributions | C30: 10000 | D30: =C30 -> 10000 | E30: =D30 -> 10000 | F30: =E30 -> 10000 | G30: =F30 -> 10000 | H30: =G30 -> 10000
B31: Expenditures | C31: =-SUM(C17) -> -49400 | D31: =-SUM(D9:D16) -> -37800 | E31: =-SUM(E9:E16) -> -44400 | F31: =-SUM(F9:F16) -> -15600 | G31: =-SUM(G9:G16) -> 0 | H31: =-SUM(H9:H16) -> 0
B32: Ending Balance | C32: =SUM(C28:C31) -> 69600 | D32: =SUM(D28:D31) -> 41800 | E32: =SUM(E28:E31) -> 7400 | F32: =SUM(F28:F31) -> 1800 | G32: =SUM(G28:G31) -> 11800 | H32: =SUM(H28:H31) -> 21800

Sheet Fire Trucks
A2: Ignore routine facility maintenance/replacement items, which should be in your General Fund operating expense budget.
A3: Please use amounts in even dollars; do not round to nearest thousand. Use notes to expand information when necessary.
A4: Note major changes from your prior budget. | I4: Items after 2026 over $50,000
A5: Item | B5: Purpose | C5: 2021 | D5: =C5+1 -> 2022 | E5: =D5+1 -> 2023 | F5: =E5+1 -> 2024 | G5: =F5+1 -> 2025 | H5: =G5+1 -> 2026 | I5: Item | J5: Amount
A6: GMC 2500 | B6: Additional vehicle forCapt./Fire and Safety Inspector, which is old Squad 3 that was to be replaced by the ambulance | G6: See Fire Fleet Tab | I6: Purchased in 2020
A7: Yukon | B7: Replacement for Squad 1 | F7: 75000 | I7: See Comments re. Proposed Change in Fund Use
A8: Replace OHRV | B8: Replace Ranger | F8: 30000
A9: Engine 2 (2000) Replacement (Demo Model) | B9: New would be combo Engine and Heavy Rescue, enabling retirement of 2000 Rescue 1. Includes $100K of n ew other equipment. | E9: 600000 | I9: Bond Vote in 2022
A10: Heavy Rescue | B10: Replace Rescue 1 (2000) | I10: Replaced by dual-use new Engine 2
A11: Ladder Truck Replacement | B11: Replace ladder truck (2000) with used replacement | H11: 500000 | I11: Bond Vote in 2025
A12: Water Rescue Trailer | H12: 10000
A13: Yukon | B13: Replacement for Car 1 (Command Unit) | H13: 75000
A14: Ambulance | I14: Future service status unknown | J14: 300000
I15: TOTAL
B16: Totals | C16: =SUM(C6:C13) -> 0 | D16: =SUM(D6:D13) -> 0 | E16: =SUM(E6:E13) -> 600000 | F16: =SUM(F6:F13) -> 105000 | G16: =SUM(G6:G13) -> 0 | H16: =SUM(H6:H13) -> 585000 | I16: =SUM(C16:H16) -> 1290000
B18: 2019 Contribution | C18: 5000
B20: Balance, September 30, 2020 | C20: 198000 | D20: =C27 -> 126000 | E20: =D27 -> 131000 | F20: =E27 -> 136000 | G20: =F27 -> 36000 | H20: =G27 -> 41000
B21: Late 2020 Disbursements | C21: -107000
B22: Ambulance Grant ($50K) | C22: 30000 | D22: 0 | E22: 0 | F22: 0 | G22: 0 | H22: 0 | I22: Amount Expended through 6/30/20
B23: CIP Cash Contributions | C23: 5000 | D23: =C23 -> 5000 | E23: =D23 -> 5000 | F23: =E23 -> 5000 | G23: =F23 -> 5000 | H23: =G23 -> 5000
B24: Bonding | C24: 0 | D24: 0 | E24: 600000 | F24: 0 | G24: 0 | H24: 500000
B25: Grants | C25: 0 | D25: 0 | E25: 0 | F25: 0 | G25: 0 | H25: 0
B26: Disbursements | C26: =-C16 -> 0 | D26: =-D16 -> 0 | E26: =-E16 -> -600000 | F26: =-F16 -> -105000 | G26: =-G16 -> 0 | H26: =-H16 -> -585000
B27: Balance, End of Year | C27: =SUM(C20:C26) -> 126000 | D27: =SUM(D20:D26) -> 131000 | E27: =SUM(E20:E26) -> 136000 | F27: =SUM(F20:F26) -> 36000 | G27: =SUM(G20:G26) -> 41000 | H27: =SUM(H20:H26) -> -39000
A29: Bonds:
A30: Engine | F30: =F24 -> 0 | G30: =G24 -> 0 | H30: =H24 -> 500000
F31: 20 | G31: 20 | H31: 20
F32: 0.05 | G32: 0.05 | H32: 0.05
F33: =PMT(F32,F31,F30) -> 0 | G33: =PMT(G32,G31,G30) -> 0 | H33: =PMT(H32,H31,H30) -> -40121.294

Sheet Fire Fleet
A4: Year | B4: Make/Model | C4: Type | D4: ID # | E4: Miles / Hours | F4: Estimated Replacement Cost (2020) | G4: CICP Recommended Replacement Year | H4: Department Recommended Replacement Year
A5: 2008 | B5: Engine 1 | C5: Engine | E5: 14360 Miles | F5: 700000 | G5: Not Listed | H5: 2028
A6: 2001 | B6: Engine 2 | C6: Engine | E6: 36504Miles 2934Hours | F6: 700000 | G6: 2025 | H6: -
A7: 2019 | B7: Engine 3 | C7: Engine | E7: 5468 Miles 145 Hours | F7: 700000 | G7: Not Listed | H7: 2040
A8: 2000 | B8: Ladder Truck | C8: Ladder | E8: 107223 Miles 1548 Hours | F8: 750000 | G8: >2025 | H8: -
A9: 2014 | B9: Water Rescue Trailer | C9: Trailer | E9: N/A | F9: 10000 | G9: 2026 | H9: -
A10: 2013 | B10: Squad 1 Yukon | C10: Truck | E10: 21159 Miles | F10: 60000 | G10: 2026 | H10: -
A11: 2016 | B11: Car 1 Yukon | C11: Truck | E11: 35639 Miles | F11: 60000 | G11: 2028 | H11: -
A12: 2011 | B12: Squad 3 Yukon | C12: Truck | E12: 86917 Miles | F12: 60000 | G12: 2020 | H12: -
A13: 1985 | B13: Brush Truck | C13: Brush Truck | E13: 7093 Miles | F13: 150000 | G13: 2020 | H13: -
A14: 2010 | B14: Ranger W/Trailer | C14: OHRV | E14: 554 Miles 69.7 Hours | F14: 30000 | G14: 2024 | H14: -
A15: 2010 | B15: Tanker 1 | C15: Tanker | E15: 11302 Miles | F15: 300000 | G15: Not Listed | H15: -
A16: 2015 | B16: Boat W/Trailer | C16: Boat | E16: N/A | F16: 300000 | G16: Not Listed | H16: -
A17: 2000 | B17: Rescue 1 | C17: Truck | E17: 21265 Miles 2098 Hours | F17: 400000 | G17: Not Listed | H17: -
A18: Total | F18: =SUM(F7:F17) -> 2820000

Sheet Fire Ponds
A2: Ignore routine facility maintenance/replacement items, which should be in your General Fund operating expense budget.
A3: Please use amounts in even dollars; do not round to nearest thousand. Use notes to expand information when necessary.
A4: Note major changes from your prior budget. | I4: Items after 2026 over $50,000
A5: Item | B5: Purpose | C5: 2021 | D5: =C5+1 -> 2022 | E5: =D5+1 -> 2023 | F5: =E5+1 -> 2024 | G5: =F5+1 -> 2025 | H5: =G5+1 -> 2026 | I5: Item | J5: Amount
A6: Arrowcrest Drive Fire Pond | B6: Dredge existing wetland and install dry hyrdrants | E6: 80000
A7: Old Homestead Highway & Martin Brook Dry Hydrant | B7: Install dry hydrant in conjunction with NH DOT reconstruction of Martin Brook bridge | D7: 15000
A8: MRHS Dry Hydrants | B8: Replace 2 existing dry hydrants and complete dredging, if needed | F8: 30000
A9: Sawmill Drive Dry Hydrants | B9: Replace 2 existing dry hydrants and complete dredging, if needed | G9: 30000
A10: 544 Monadnock Highway Fire Pond | B10: Dredge existing wetland and install dry hyrdrants | H10: 80000
A11: Whittemore Farm Road Fire Pond | B11: Construct fire pond and install dry hyrdrants | J11: 90000
I12: TOTAL
B13: Totals | C13: =SUM(C6:C12) -> 0 | D13: =SUM(D6:D12) -> 15000 | E13: =SUM(E6:E12) -> 80000 | F13: =SUM(F6:F12) -> 30000 | G13: =SUM(G6:G12) -> 30000 | H13: =SUM(H6:H12) -> 80000 | I13: =SUM(C13:H13) -> 235000 | J13: =SUM(J6:J12) -> 90000
I14: 6
B15: 2020 Contribution | C15: 25000 | I15: =I13/I14 -> 39166.667
B17: Balance, September 30, 2020 | C17: 53000 | D17: =C23 -> 21000 | E17: =D23 -> 36000 | F17: =E23 -> -14000 | G17: =F23 -> -14000 | H17: =G23 -> 36000
B18: 2020 Remaining | C18: -52000 | D18: 0 | E18: 0 | F18: 0 | G18: 0 | H18: 0
B19: CIP Cash Contributions | C19: 20000 | D19: 30000 | E19: =D19 -> 30000 | F19: =E19 -> 30000 | G19: =F19 -> 30000 | H19: =G19 -> 30000
B20: Grants | C20: 0 | D20: 0 | E20: 0 | F20: 0 | G20: 25000 | H20: 25000
B21: Private Contributions | C21: 0 | D21: 0 | E21: 0 | F21: 0 | G21: 25000 | H21: 35000
B22: Disbursements | C22: =-C13 -> 0 | D22: =-D13 -> -15000 | E22: =-E13 -> -80000 | F22: =-F13 -> -30000 | G22: =-G13 -> -30000 | H22: =-H13 -> -80000
B23: Balance, End of Year | C23: =SUM(C17:C22) -> 21000 | D23: =SUM(D17:D22) -> 36000 | E23: =SUM(E17:E22) -> -14000 | F23: =SUM(F17:F22) -> -14000 | G23: =SUM(G17:G22) -> 36000 | H23: =SUM(H17:H22) -> 46000

Sheet Pond Comments
A2: Memorandum – Office of Planning & Economic Development
A4: Eric Mattson and Andy Fisher of the Fire Department, Mike Jasmin, and I have been discussing recommendations for the Fire Pond budget in the Capital Improvement Program based on the 2010 Rural Fire Water Resource Plan and improvements that have already been completed since then. We are recommending 6 projects with a total estimated cost of $325,000. These projects were selected because of proximity to high population residential areas and commercial corridors where there is inadequate water supply. In addition to providing coverage for existing properties, investment in fire pond infrastructure along Routes 10 and 12 will help support new development that might not otherwise happen due to inadequate water resources for fire suppression.
A6: · Arrowcrest Drive and Martin Brook Bridge (2022): dredging existing wetland on Arrowcrest Drive to provide sufficient water supply and installing dry hydrants. This project would help provide coverage for the residential neighborhoods on Marcy Hill Road and Arrowcrest Drive as well as commercial properties on Route 12. NH DOT will be reconstructing the Martin Brook Bridge on Old Homestead Highway in 2022 and we hope to coordinate with them to have a dry hydrant installed as part of that project.
A7: · Sawmill Drive & Monadnock Regional High School (2023): replace existing hydrants and complete dredging if needed. These would both be maintenance projects. These dry hydrants provide important coverage for residential neighborhoods in Swanzey Center, Monadnock Regional School District facilities, Town Hall, and Mt. Caesar Library.
A8: · 544 Monadnock Highway (2024): dredge existing wetland to provide sufficient water supply and installing dry hydrants. This project would help provide coverage for commercial properties on Route 12 in the area of Flat Roof Mill Road.
A9: · Whittemore Farm Road (2025): construct fire pond and install dry hydrants. This project would provide coverage for commercial properties in the areas of Route 10 and Base Hill/Whittemore Farm Roads.
A10: We anticipate the projects on Arrowcrest Drive, Sawmill Drive, and at the Martin Brook bridge and Monadnock High School would be entirely covered by the Town. Our goal is to pay for the fire ponds at 544 Monadnock Highway and on Whittemore Farm Road through a combination of CIP cash contributions, private contributions from benefitting property owners, and grant funds. We believe these projects may be eligible for federal economic development grant programs, such as USDA Rural Development and Northern Border Regional Commission.

Sheet Fire Tools
A2: Ignore routine facility maintenance/replacement items, which should be in your General Fund operating expense budget.
A3: Please use amounts in even dollars; do not round to nearest thousand. Use notes to expand information when necessary.
A4: Note major changes from your prior budget. | I4: Items after 2026 over $50,000
A5: Item | B5: Purpose | C5: 2021 | D5: =C5+1 -> 2022 | E5: =D5+1 -> 2023 | F5: =E5+1 -> 2024 | G5: =F5+1 -> 2025 | H5: =G5+1 -> 2026 | I5: Item | J5: Amount
A6: Gear Extractor | B6: Station 3 | C6: 5000
A7: Miscellaneous Equipment | B7: Various pieces of equipment for stations and apparatus, including major replacing hose | C7: 10000 | D7: 5000 | E7: 5000 | F7: 5000 | G7: 5000 | H7: 5000
A8: SCBA Filling Station & Compressor | C8: 45000
A9: SCBA Mobile Filling Station | B9: To be located in heavy rescue | C9: 25000 | I9: Other high cost replacements???
A10: Cardiac Monitor | B10: Lease | D10: 35000
A11: SCBAs | B11: Purchase 30 units at $7,750 | F11: 232500
I13: TOTAL
B14: Totals | C14: =SUM(C6:C13) -> 85000 | D14: =SUM(D6:D13) -> 40000 | E14: =SUM(E6:E13) -> 5000 | F14: =SUM(F6:F13) -> 237500 | G14: =SUM(G6:G13) -> 5000 | H14: =SUM(H6:H13) -> 5000 | I14: =SUM(C14:H14) -> 377500 | J14: =SUM(J6:J13) -> 0
B16: 2020 Contribution | C16: 20000
B18: Balance, September 30, 2020 | C18: 63000 | D18: =C24 -> -18250 | E18: =D24 -> -7250 | F18: =E24 -> -1500 | G18: =F24 -> 39125 | H18: =G24 -> 39875
B19: Late 2020 Disbursements | C19: -19000 | D19: 0 | E19: 0 | F19: 0 | G19: 0 | H19: 0
B20: CIP Cash Contributions | C20: 10000 | D20: =C20 -> 10000 | E20: =D20 -> 10000 | F20: =E20 -> 10000 | G20: 5000 | H20: =G20 -> 5000
B21: Grants - 15% of Costs | C21: =0.15*C14 -> 12750 | D21: =0.15*D14 -> 6000 | E21: =0.15*E14 -> 750 | F21: =0.15*F14 -> 35625 | G21: =0.15*G14 -> 750 | H21: =0.15*H14 -> 750
B22: Lease | C22: 0 | D22: =D10 -> 35000 | E22: 0 | F22: =F11 -> 232500 | G22: 0 | H22: 0
B23: Disbursements | C23: =-C14 -> -85000 | D23: =-D14 -> -40000 | E23: =-E14 -> -5000 | F23: =-F14 -> -237500 | G23: =-G14 -> -5000 | H23: =-H14 -> -5000
B24: Balance, End of Year | C24: =SUM(C18:C23) -> -18250 | D24: =SUM(D18:D23) -> -7250 | E24: =SUM(E18:E23) -> -1500 | F24: =SUM(F18:F23) -> 39125 | G24: =SUM(G18:G23) -> 39875 | H24: =SUM(H18:H23) -> 40625
